BEGIN:VCALENDAR
VERSION:2.0
PRODID:-//KAY WEINE - ECPv6.15.11//NONSGML v1.0//EN
CALSCALE:GREGORIAN
METHOD:PUBLISH
X-ORIGINAL-URL:https://www.kay-weine.de
X-WR-CALDESC:Veranstaltungen für KAY WEINE
REFRESH-INTERVAL;VALUE=DURATION:PT1H
X-Robots-Tag:noindex
X-PUBLISHED-TTL:PT1H
BEGIN:VTIMEZONE
TZID:Europe/Berlin
BEGIN:DAYLIGHT
TZOFFSETFROM:+0100
TZOFFSETTO:+0200
TZNAME:CEST
DTSTART:20250330T010000
END:DAYLIGHT
BEGIN:STANDARD
TZOFFSETFROM:+0200
TZOFFSETTO:+0100
TZNAME:CET
DTSTART:20251026T010000
END:STANDARD
BEGIN:DAYLIGHT
TZOFFSETFROM:+0100
TZOFFSETTO:+0200
TZNAME:CEST
DTSTART:20260329T010000
END:DAYLIGHT
BEGIN:STANDARD
TZOFFSETFROM:+0200
TZOFFSETTO:+0100
TZNAME:CET
DTSTART:20261025T010000
END:STANDARD
BEGIN:DAYLIGHT
TZOFFSETFROM:+0100
TZOFFSETTO:+0200
TZNAME:CEST
DTSTART:20270328T010000
END:DAYLIGHT
BEGIN:STANDARD
TZOFFSETFROM:+0200
TZOFFSETTO:+0100
TZNAME:CET
DTSTART:20271031T010000
END:STANDARD
END:VTIMEZONE
BEGIN:VEVENT
DTSTART;TZID=Europe/Berlin:20260829T150000
DTEND;TZID=Europe/Berlin:20260829T173000
DTSTAMP:20260424T194415
CREATED:20240423T105038Z
LAST-MODIFIED:20260117T123834Z
UID:35295-1788015600-1788024600@www.kay-weine.de
SUMMARY:VHS: Unterwegs im Weinberg - Bioweinbau am Mittelrhein
DESCRIPTION:Informationen über Bioweinbau und den Mittelrhein verbunden mit einer Weinprobe. \nDie Veranstaltung findet in Kooperation mit der VHS Siebengebirge statt. Bitte melden Sie sich bei der VHS an: \nPolitik\, Gesellschaft\, Umwelt
URL:https://www.kay-weine.de/termin/unterwegs-im-weinberg-bioweinbau-am-mittelrhein-2/
LOCATION:Weinberg Pfaffenröttchen\, Bergstraße 115\, Oberdollendorf
END:VEVENT
END:VCALENDAR